BEGIN:VCALENDAR
VERSION:2.0
PRODID:-//Swiss Food &amp; Nutrition Valley - ECPv6.15.20//NONSGML v1.0//EN
CALSCALE:GREGORIAN
METHOD:PUBLISH
X-ORIGINAL-URL:https://swissfoodnutritionvalley.com
X-WR-CALDESC:Events for Swiss Food &amp; Nutrition Valley
REFRESH-INTERVAL;VALUE=DURATION:PT1H
X-Robots-Tag:noindex
X-PUBLISHED-TTL:PT1H
BEGIN:VTIMEZONE
TZID:Europe/Zurich
BEGIN:DAYLIGHT
TZOFFSETFROM:+0100
TZOFFSETTO:+0200
TZNAME:CEST
DTSTART:20250330T010000
END:DAYLIGHT
BEGIN:STANDARD
TZOFFSETFROM:+0200
TZOFFSETTO:+0100
TZNAME:CET
DTSTART:20251026T010000
END:STANDARD
BEGIN:DAYLIGHT
TZOFFSETFROM:+0100
TZOFFSETTO:+0200
TZNAME:CEST
DTSTART:20260329T010000
END:DAYLIGHT
BEGIN:STANDARD
TZOFFSETFROM:+0200
TZOFFSETTO:+0100
TZNAME:CET
DTSTART:20261025T010000
END:STANDARD
BEGIN:DAYLIGHT
TZOFFSETFROM:+0100
TZOFFSETTO:+0200
TZNAME:CEST
DTSTART:20270328T010000
END:DAYLIGHT
BEGIN:STANDARD
TZOFFSETFROM:+0200
TZOFFSETTO:+0100
TZNAME:CET
DTSTART:20271031T010000
END:STANDARD
END:VTIMEZONE
BEGIN:VEVENT
DTSTART;VALUE=DATE:20260317
DTEND;VALUE=DATE:20260320
DTSTAMP:20260422T132033
CREATED:20251211T165246Z
LAST-MODIFIED:20260206T135621Z
UID:10000239-1773705600-1773964799@swissfoodnutritionvalley.com
SUMMARY:BIOKET 2026
DESCRIPTION:BIOKET is an annual international conference that serves as a platform dedicated to advancing Key Enabling Technologies and innovations applied to biomass valorization. The conference aims to promote the production of high added value products across diverse sectors of the economy through sustainable practices and cutting-edge technologies \nFocus: BIOKET focuses on technologies and innovations that enhance the value of biomass\, transforming it into valuable products that benefit a wide range of industries. \nObjective: BIOKET provides a platform for professionals\, researchers\, and industry leaders to connect\, exchange knowledge\, and build sustainable business partnerships globally. \nRelevance: By facilitating discussions and showcasing the latest advancements in biomass valorization\, BIOKET contributes to the growth and sustainability of the bioeconomy sector. \nSFNV partners are able to book as PromFR partners\, and benefit from a discount on the standard rate. Event organisers will check all ticket purchases against a list of Valley partners.
URL:https://swissfoodnutritionvalley.com/event-listing/bioket-2026/
LOCATION:Forum Fribourg\, Rte du Lac 12\, Granges-Paccot\, 1763\, Switzerland
CATEGORIES:Discounts available,Partner event
ATTACH;FMTTYPE=image/png:https://swissfoodnutritionvalley.com/wp-content/uploads/2025/12/unnamed.png
END:VEVENT
BEGIN:VEVENT
DTSTART;VALUE=DATE:20260423
DTEND;VALUE=DATE:20260424
DTSTAMP:20260422T132033
CREATED:20260120T112120Z
LAST-MODIFIED:20260224T082554Z
UID:10000246-1776902400-1776988799@swissfoodnutritionvalley.com
SUMMARY:Hack Summit Food Day 2026
DESCRIPTION:Food in a Tighter Margin World\n\n\nThe food sector went through a phase of fast funding and high expectations. Some bets were right. Many underestimated biology\, regulation\, and the cost of scaling. Where food systems break first is now clearer: raw material supply\, production consistency\, unit economics\, and risk pricing. Day 2 of HackSummit is built for founders working on food systems that must keep operating under climate volatility\, biological limits\, and regulatory challenges.\n\nThese companies:\n– build in systems where decisions are validated over years\n– depend on land\, biology\, and physical supply chains\n– pay for mistakes through yields\, margins\, and compliance risk\n\n\nValley Partner Discounts are available.
URL:https://swissfoodnutritionvalley.com/event-listing/hack-summit-food-day-2026/
LOCATION:Beaulieu Congress Center\, Halle 36\, Lausanne\, Lausanne\, 1004\, Switzerland
CATEGORIES:Discounts available,Ecosystem event
ATTACH;FMTTYPE=image/png:https://swissfoodnutritionvalley.com/wp-content/uploads/2026/01/696e6afbb8f834f5a9036762_Industrial-1.png
END:VEVENT
BEGIN:VEVENT
DTSTART;TZID=Europe/Zurich:20260504T080000
DTEND;TZID=Europe/Zurich:20260505T170000
DTSTAMP:20260422T132033
CREATED:20251122T151406Z
LAST-MODIFIED:20260221T145353Z
UID:10000223-1777881600-1778000400@swissfoodnutritionvalley.com
SUMMARY:Swiss Biotech Day
DESCRIPTION:Since 2021\, the Swiss Biotech Day has seen remarkable growth every year and has become a premier global biotechnology conference for life sciences professionals\, fostering international collaboration and impactful partnerships. In 2025 it attracted more than 3\,000 participants from 49 countries\, including 25 international delegations. It was by far the biggest and most international edition of the Swiss Biotech Day ever. \nJoin the Swiss Biotech Day to network\, exchange ideas and explore advances in R&D\, manufacturing\, data management\, AI and innovative financing. In addition\, the embedded Global Village provides international delegations a platform to strengthen their ties with the Swiss biotech hub to promote cross-border investments\, public-private partnerships\, R&D collaborations and the exchange of best practices. \nSwiss Biotech Day 2026\n\nWelcome reception on May 3\nMore than 3\,000 senior experts from the life science industry\nMore than 130 exhibitors and the Global Village with 25 international delegations from all over the world\nInnovative biotech start-ups and medium-sized biotech companies\nOver 50 thematic company pitching sessions and panel / round table discussions\nSwiss Biotech Success Stories Awards\nSwiss Biotech Report 2026\nPre-scheduled one-to-one partnering meetings\nGeneral Assembly of the Swiss Biotech Association
URL:https://swissfoodnutritionvalley.com/event-listing/swiss-biotech-day/
LOCATION:Messe Basel\, Messeplatz 10\, Basel\, 4058\, Switzerland
CATEGORIES:Discounts available,Ecosystem event
ATTACH;FMTTYPE=image/jpeg:https://swissfoodnutritionvalley.com/wp-content/uploads/2025/11/250505_SBD_JONATHAN_LIECHTI_0650-710x375-1.jpg
END:VEVENT
BEGIN:VEVENT
DTSTART;VALUE=DATE:20260520
DTEND;VALUE=DATE:20260524
DTSTAMP:20260422T132033
CREATED:20260419T122851Z
LAST-MODIFIED:20260419T122937Z
UID:10000280-1779235200-1779580799@swissfoodnutritionvalley.com
SUMMARY:Milan Longevity Summit
DESCRIPTION:A global movement rooted in local action\n\n\nThe future of health\, for people\, planet\, and economies\, cannot be solved in isolation. It demands a new kind of platform: one that blends science with society\, research with real life\, and global ambition with local action. Milan\, with its rich cultural heritage\, innovation hubs\, and civic spirit\, becomes a living testbed for how we rethink health across generations\, disciplines\, and systems. \nThe Milan Longevity Summit is not just a gathering;  it’s where urgency meets imagination\, where cross-sector alliances are forged\, and where the future of One Health begins to take shape. \n*Valley Partner discounts are available (check the Whatsapp group)*
URL:https://swissfoodnutritionvalley.com/event-listing/milan-longevity-summit/
CATEGORIES:Discounts available,Ecosystem event
ATTACH;FMTTYPE=image/avif:https://swissfoodnutritionvalley.com/wp-content/uploads/2026/04/c334b7_ae4a8501ac9a498f8b22a2b57c09797emv2-1.avif
END:VEVENT
BEGIN:VEVENT
DTSTART;VALUE=DATE:20260527
DTEND;VALUE=DATE:20260529
DTSTAMP:20260422T132033
CREATED:20260120T113452Z
LAST-MODIFIED:20260206T152251Z
UID:10000247-1779840000-1780012799@swissfoodnutritionvalley.com
SUMMARY:Future Labs Live Basel
DESCRIPTION:The Lab Live series attracts thousands of C-level executives and thought leaders from key lab industries across the globe\, making it the epicenter of lab innovation and evolution. We connect the people\, technologies and ideas\, that are shaping the future of labs across every vertical of the global lab ecosystem – Biotech\, Pharma\, Chemicals\, F&B\, Agriculture\, Materials\, FMCG\, Real Estate\, Academia\, Energy & Environment and beyond. \nWith a focus on lab excellence\, technology\, and innovation\, this event explores every aspect of modern laboratory management – from facilities and sustainability\, through to operations and digital transformation. This is where knowledge is shared\, partnerships are forged\, and the global lab community comes alive. \nExperience multiple stages with headline speakers\, start-up showcases\, interactive workshops\, bold exhibits and countless opportunities to network. Join us for an unparalleled opportunity to learn\, innovate\, and do business.
URL:https://swissfoodnutritionvalley.com/event-listing/future-labs-live-basel/
LOCATION:Congress Center Basel\, Messe and Congress Center Basel\, Basel\, CH-4005 Basel\, Switzerland
CATEGORIES:Discounts available,Ecosystem event
ATTACH;FMTTYPE=image/webp:https://swissfoodnutritionvalley.com/wp-content/uploads/2026/01/who-attends.webp
END:VEVENT
BEGIN:VEVENT
DTSTART;VALUE=DATE:20260609
DTEND;VALUE=DATE:20260612
DTSTAMP:20260422T132034
CREATED:20260120T132807Z
LAST-MODIFIED:20260422T064925Z
UID:10000253-1780963200-1781222399@swissfoodnutritionvalley.com
SUMMARY:Bridge2Food Plant-Based Foods & Proteins Summit Europe
DESCRIPTION:Bridge2Food Europe 2026 invites you to explore the journey in the alternative protein sector. Thanks to the incredible success of our 2025 edition in The Hague—with over 600 industry experts joining us\, including senior R&D\, Technical\, and Innovation leaders—we’re now expanding and relocating to Copenhagen in 2026! This year\, we are bringing back the highly successful co-location of Course Europe and Summit Europe\, creating an even more powerful platform for collaboration\, innovation\, and strategic partnerships. \nJoin us from Tuesday\, 9 June\, to Thursday\, 11 June 2026\, in Copenhagen\, Denmark\, for what will be our largest-ever European event. With the combination of the renowned technical expertise of Course Europe and the strategic discussions at Summit Europe\, this event is designed to maximize your networking opportunities\, idea exchange\, and partnership potential.
URL:https://swissfoodnutritionvalley.com/event-listing/bridge2food-plant-based-foods-proteins-summit-europe/
LOCATION:Copenhagen\, Denmark
CATEGORIES:Discounts available,Ecosystem event
ATTACH;FMTTYPE=image/webp:https://swissfoodnutritionvalley.com/wp-content/uploads/2026/01/filters_no_upscale.webp
END:VEVENT
END:VCALENDAR