BEGIN:VCALENDAR
VERSION:2.0
PRODID:-//Swiss Food &amp; Nutrition Valley - ECPv6.15.20//NONSGML v1.0//EN
CALSCALE:GREGORIAN
METHOD:PUBLISH
X-ORIGINAL-URL:https://swissfoodnutritionvalley.com
X-WR-CALDESC:Events for Swiss Food &amp; Nutrition Valley
REFRESH-INTERVAL;VALUE=DURATION:PT1H
X-Robots-Tag:noindex
X-PUBLISHED-TTL:PT1H
BEGIN:VTIMEZONE
TZID:Europe/Zurich
BEGIN:DAYLIGHT
TZOFFSETFROM:+0100
TZOFFSETTO:+0200
TZNAME:CEST
DTSTART:20220327T010000
END:DAYLIGHT
BEGIN:STANDARD
TZOFFSETFROM:+0200
TZOFFSETTO:+0100
TZNAME:CET
DTSTART:20221030T010000
END:STANDARD
BEGIN:DAYLIGHT
TZOFFSETFROM:+0100
TZOFFSETTO:+0200
TZNAME:CEST
DTSTART:20230326T010000
END:DAYLIGHT
BEGIN:STANDARD
TZOFFSETFROM:+0200
TZOFFSETTO:+0100
TZNAME:CET
DTSTART:20231029T010000
END:STANDARD
BEGIN:DAYLIGHT
TZOFFSETFROM:+0100
TZOFFSETTO:+0200
TZNAME:CEST
DTSTART:20240331T010000
END:DAYLIGHT
BEGIN:STANDARD
TZOFFSETFROM:+0200
TZOFFSETTO:+0100
TZNAME:CET
DTSTART:20241027T010000
END:STANDARD
BEGIN:DAYLIGHT
TZOFFSETFROM:+0100
TZOFFSETTO:+0200
TZNAME:CEST
DTSTART:20250330T010000
END:DAYLIGHT
BEGIN:STANDARD
TZOFFSETFROM:+0200
TZOFFSETTO:+0100
TZNAME:CET
DTSTART:20251026T010000
END:STANDARD
BEGIN:DAYLIGHT
TZOFFSETFROM:+0100
TZOFFSETTO:+0200
TZNAME:CEST
DTSTART:20260329T010000
END:DAYLIGHT
BEGIN:STANDARD
TZOFFSETFROM:+0200
TZOFFSETTO:+0100
TZNAME:CET
DTSTART:20261025T010000
END:STANDARD
END:VTIMEZONE
BEGIN:VEVENT
DTSTART;TZID=Europe/Zurich:20250617T100000
DTEND;TZID=Europe/Zurich:20250617T180000
DTSTAMP:20260425T033940
CREATED:20250522T090608Z
LAST-MODIFIED:20250522T090608Z
UID:10000206-1750154400-1750183200@swissfoodnutritionvalley.com
SUMMARY:InnoFood & co 2025
DESCRIPTION:On 17 June 2025\, InnoFood & co returns for its 4th edition at Forum Fribourg. A flagship event dedicated to agri-food innovation in Switzerland\, it brings together key players from across the ecosystem every year — including researchers\, entrepreneurs\, institutions\, producers\, and project leaders. \nOrganised by the Cluster Food & Nutrition\, this day is designed to spark bold ideas and transform them into concrete\, sustainable\, and high-impact solutions. InnoFood & co offers a vibrant space for reflection\, exchange\, and collaboration\, with networking moments tailored to foster connections\, strategic discussions\, and professional opportunities. \nThis year\, two inspiring keynote talks will mark the day: Dominique Truchot Cardot (Institut et Haute École de la Santé La Source) will explore nutritional challenges in Switzerland and the opportunities they offer the agri-food sector. Xavier Cornut (Switzerland Global Enterprise) and Dr. Ina Gruber (Swiss Business Hub Austria) will share insights into the export potential of Swiss products and the prospects for international development. \nThe programme will also feature several parallel sessions around three core themes: \n• Support mechanisms for innovation\n• Fermentation and biotechnologies\n• Food trends and consumer habits in Switzerland \nThese topics will be explored in depth by speakers from academia\, industry\, and public institutions\, who will share their expertise and real-world insights. All sessions will be translated simultaneously into French and German. \nInnoFood & co is also about innovation on the plate. Fud Läb will curate an experimental lunch — a true culinary immersion\, combining boldness\, creativity\, and local flavour. All dishes will be crafted using products from members of the Cluster Food & Nutrition. \nThroughout the day\, dedicated networking moments will provide multiple opportunities to connect\, discover new projects\, and build partnerships. The exhibition space will also highlight innovative initiatives led by key players in the agri-food sector.
URL:https://swissfoodnutritionvalley.com/event-listing/innofood-co-2025/
LOCATION:Forum Fribourg\, Rte du Lac 12\, Granges-Paccot\, 1763\, Switzerland
ATTACH;FMTTYPE=image/png:https://swissfoodnutritionvalley.com/wp-content/uploads/2025/04/innofoodco_2025_avec-logos-1.png
ORGANIZER;CN="Cluster Food &amp%3B Nutrition":MAILTO:info@clusterfoodnutrition.ch
END:VEVENT
BEGIN:VEVENT
DTSTART;TZID=Europe/Zurich:20240528T103000
DTEND;TZID=Europe/Zurich:20240528T180000
DTSTAMP:20260425T033940
CREATED:20240226T153954Z
LAST-MODIFIED:20240226T153954Z
UID:10000112-1716892200-1716919200@swissfoodnutritionvalley.com
SUMMARY:InnoFood & co
DESCRIPTION:The event returns for a 3rd edition on May 28\, 2024! Thanks to your loyalty and support\, we’re delighted to be able to introduce you once again to initiatives that are both local and global\, and to enable you to seize the opportunities for innovation and collaboration that lie ahead. \nMark May 28\, 2024 in your diaries\, for an inspiring and captivating experience awaits you. Get ready to join us for an event that will arouse your curiosity and stimulate your taste buds.
URL:https://swissfoodnutritionvalley.com/event-listing/innofood-co-2/
LOCATION:Forum Fribourg\, Rte du Lac 12\, Granges-Paccot\, 1763\, Switzerland
CATEGORIES:Ecosystem event
ATTACH;FMTTYPE=image/png:https://swissfoodnutritionvalley.com/wp-content/uploads/2024/02/innofoodco_save-the-date_BLANC-1.png
ORGANIZER;CN="Cluster Food &amp%3B Nutrition":MAILTO:info@clusterfoodnutrition.ch
END:VEVENT
BEGIN:VEVENT
DTSTART;TZID=Europe/Zurich:20240425T173000
DTEND;TZID=Europe/Zurich:20240425T210000
DTSTAMP:20260425T033940
CREATED:20240409T071742Z
LAST-MODIFIED:20240409T071742Z
UID:10000129-1714066200-1714078800@swissfoodnutritionvalley.com
SUMMARY:Open Exploration Workshop – Grangeneuve
DESCRIPTION:The Innovation Booster Future Food Farming powered by Innosuisse invites you to connect and collaboratively develop transformative solutions. \nStakeholders from farms to citizens come together creatively\, with the opportunity to shape projects for initial explorations in an incubation phase alongside experts\, with funding of up to 39\,000 CHF. \nTogether\, we aim to identify the hurdles preventing us from delivering more locally. Representatives from agriculture\, processing industries\, trade\, gastronomy\, academic partners\, cantons\, municipalities\, citizens\, and the next generation will convene to create a diverse\, resilient\, and sustainable future for food. \nTogether\, we will: \n• Recognize obstacles and issues impeding progress today.\n• Better understand the complexity of our agricultural and food systems.\n• Understand challenges and their stakeholders better.\n• Draft opportunity statements paving the way for radical and value-based solutions. \nWhy participate? \n• Join a vibrant\, multidisciplinary community passionately reshaping our food landscape.\n• Gain deep insights and understanding of relevant hurdles and their profound impacts.\n• Find suitable partners for an innovation project and secure financing. \nThis event is organized in collaboration with Star’Terre. \nThis workshop will be held in French.
URL:https://swissfoodnutritionvalley.com/event-listing/open-exploration-workshop-grangeneuve/
LOCATION:Grangeneuve\, Rte de Grangeneuve 31\, Posieux\, Fribourg\, 1725\, Switzerland
ORGANIZER;CN="Cluster Food &amp%3B Nutrition":MAILTO:info@clusterfoodnutrition.ch
END:VEVENT
BEGIN:VEVENT
DTSTART;TZID=Europe/Zurich:20240422T130000
DTEND;TZID=Europe/Zurich:20240422T180000
DTSTAMP:20260425T033940
CREATED:20240409T071723Z
LAST-MODIFIED:20240409T071723Z
UID:10000130-1713790800-1713808800@swissfoodnutritionvalley.com
SUMMARY:Open Exploration Workshop - Basel
DESCRIPTION:The Innovation Booster Future Food Farming\, supported by Innosuisse\, invites individuals to network and develop transformative solutions together. Stakeholders\, from farmers to citizens\, collaborate creatively and have the opportunity to finance initial exploration projects up to 39\,000 CHF. \nTogether\, we aim to identify obstacles preventing us from supplying more locally. \nRepresentatives from agriculture\, processing industries\, commerce\, academic partners\, cantons\, municipalities\, citizens\, and the next generation will come together to create a diverse\, resilient\, and sustainable food future. \nThrough collaboration\, we will:\n* Identify obstacles and issues hindering progress today.\n* Better understand the complexity of our agri-food system.\n* Gain insight into challenges and their stakeholders.\n* Draft opportunity statements that pave the way for radical\, values-based solutions. \nWhy participate?\n* Join a vibrant\, multidisciplinary community passionately reshaping our food landscape.\n* Gain a comprehensive understanding of relevant obstacles and their profound impact.\n* Find suitable partners for innovation projects and secure funding. \nThis event is organized in collaboration with Markthalle Basel and Lebensmittel Netzwerk Basel
URL:https://swissfoodnutritionvalley.com/event-listing/open-exploration-workshop-basel-2/
LOCATION:Markthalle Basel\, Steinentorberg 20\, Basel\, 4051
ORGANIZER;CN="Cluster Food &amp%3B Nutrition":MAILTO:info@clusterfoodnutrition.ch
END:VEVENT
BEGIN:VEVENT
DTSTART;TZID=Europe/Zurich:20240409T090000
DTEND;TZID=Europe/Zurich:20240409T170000
DTSTAMP:20260425T033940
CREATED:20240327T061729Z
LAST-MODIFIED:20240327T061729Z
UID:10000124-1712653200-1712682000@swissfoodnutritionvalley.com
SUMMARY:FUTURE FOOD P-ACT
DESCRIPTION:The Innovation Boosters Swiss Food Ecosystems and Future Food Farming\, powered by Innosuisse\, invite you to connect and collaborate on transformative solutions during a visionary journey into the world of agricultural and food systems. Stakeholders from farmers to citizens will have the opportunity to fund exploratory projects up to 39\,000 CHF. \nRepresentatives from agriculture\, industry\, trade\, academic partners\, cantons\, municipalities\, citizens\, and the next generation will come together to shape a diverse\, resilient\, and sustainable future of food. \nAt the heart of Future Food P-Act lies bridging – between the present and the future\, among different interest groups\, and between challenges\, ideas\, and actions. \nThe event will be conducted in German\, with English available for group work. \nAgenda: \n• 09:00 Opening\n• 10:00 Observation of the Swiss Agro-Food System\, presented by the Annundpfirsich Theater\n• 11:00 Crafting Future Scenarios of the Food System with Kühne Wicki\n• 12:30 Lunch Break\n• 14:00 Workshop: Understanding Hurdles and Formulating Solutions\n• 16:00 Networking Apéro
URL:https://swissfoodnutritionvalley.com/event-listing/future-food-p-act/
LOCATION:Zollhaus\, Zollstrasse 121\, Stadtkreis 5 Industriequartier\, Zürich\, 8005
ATTACH;FMTTYPE=image/jpeg:https://swissfoodnutritionvalley.com/wp-content/uploads/2024/03/FFP.jpeg
ORGANIZER;CN="Cluster Food &amp%3B Nutrition":MAILTO:info@clusterfoodnutrition.ch
END:VEVENT
BEGIN:VEVENT
DTSTART;TZID=Europe/Zurich:20240312T133000
DTEND;TZID=Europe/Zurich:20240312T180000
DTSTAMP:20260425T033940
CREATED:20240226T153926Z
LAST-MODIFIED:20240226T153926Z
UID:10000110-1710250200-1710266400@swissfoodnutritionvalley.com
SUMMARY:Joint Event Cluster Food & Nutrition x IT Valley
DESCRIPTION:On March 12\, join us for an immersive afternoon at L’Atelier (formerly the Gutenberg Museum)\, where the convergence of food and IT will come to life at our event in close collaboration with IT Valley. \nThe Food & Nutrition Cluster\, working in the agri-food sector since 2015\, has established itself as a regional and national networking platform. Its mission\, rooted in sustainability and innovation\, aims to strengthen collaboration between players in the agri-food ecosystem. IT Valley\, for its part\, federates information and communication technology professionals. By promoting the exchange of knowledge and skills\, the association boosts the competitiveness of regional SMEs and encourages the transfer of knowledge between academic and business circles. \nFrom 1:30pm\, immerse yourself in a captivating experience with a warm welcome and introductory words\, illustrating our shared commitment to creating a strong\, sustainable and innovative ecosystem. The day will revolve around carefully thought-out activities\, offering a glimpse of the new faces of the Food Cluster through dynamic pitches. \nEngage in a round-table discussion dedicated to digitalization in the agri-food sector\, exploring the opportunities offered by this convergence. The coffee break will be a privileged moment to exchange ideas and forge links with the players present. The second half of the afternoon will highlight an IT project in the agri-food sector\, bringing together academic and industrial skills. \nIT Valley members will then share their expertise through 3-minute pitches\, unveiling their innovative projects. Finally\, round off this enriching day with a networking aperitif\, while discovering the exhibition by artist Julien Kolly\, establishing a captivating link with digital art. \nOur event is more than just a get-together. It’s an opportunity to create synergies\, foster innovation and build lasting relationships between the worlds of agrifood and IT. Come and share your ideas\, explore new perspectives and contribute to the emergence of a promising agri-food and technological future. We look forward to welcoming you to a day of collaboration\, goodwill and discovery.
URL:https://swissfoodnutritionvalley.com/event-listing/joint-event-cluster-food-nutrition-x-it-valley/
LOCATION:L’Atelier\, Pl. de Notre Dame 16\, Fribourg\, 1700\, Switzerland
CATEGORIES:Co-hosted event
ATTACH;FMTTYPE=image/png:https://swissfoodnutritionvalley.com/wp-content/uploads/2024/02/Partenariat-CFN-IT-Valley-4878x2746-1140x641-1.png
ORGANIZER;CN="Cluster Food &amp%3B Nutrition":MAILTO:info@clusterfoodnutrition.ch
END:VEVENT
BEGIN:VEVENT
DTSTART;TZID=Europe/Zurich:20240206T130000
DTEND;TZID=Europe/Zurich:20240206T180000
DTSTAMP:20260425T033940
CREATED:20240119T162730Z
LAST-MODIFIED:20240119T162730Z
UID:10000106-1707224400-1707242400@swissfoodnutritionvalley.com
SUMMARY:Open Exploration About Resource Efficiency – Workshop
DESCRIPTION:The transformation of the agro-food system needs a space to create opportunities\, incubate ideas\, and develop radical solutions. Welcome to the Innovation Booster Swiss Food Ecosystems – Open Exploration Workshop. #Swissinnovationbooster is a program powered by @Innosuisse. \nJoin us for a transformative experience at our upcoming Open Exploration Workshop on February 6\, 2024\, and dive into the Heart of Change: How to nurture crazy ideas for wicked problems building future scenarios for which to act today! \nOur food system is in desperate need of a makeover\, and YOU can be the catalyst for transformation! Join us in an exhilarating workshop where we tackle the challenges head-on and cultivate ingenious solutions for a planet-friendly future. \nWhat to Expect:\n• Explore signals pointing towards resource efficiency.\n• Uncover the obstacles hindering progress today.\n• Deep dive into the complexities of our agro-food system.\n• Engage with open-innovation experts guiding you through the challenges mapping.\n• Craft opportunity statements paving the way for radical solutions and ideas. \nWhy Attend? Connect with a vibrant\, multidisciplinary community passionate about\nreshaping our food landscape. Gain profound insights into hurdles\, their origins\, and their profound impacts. \nYour Chance to Shine: Participation opens doors to submit your groundbreaking ideas! Receive incubation coaching and a CHF 5\,000.- voucher to develop your concept. Pitch it to an expert panel and stand a chance to secure up to CHF 30\,000.- to bring your vision to life. \nThe workshops are the ticket for idea incubation and project submission of this Innovation Booster. (Participation in the workshop\, of at least one member of the submitting team\, is mandatory for grant reception)\nDon’t miss the chance to shape the future of our food system. Together\, let’s sow the seeds of innovation! \nA reservation fee of CHF 100\,- per person is asked at registration. This will be refunded after participation.
URL:https://swissfoodnutritionvalley.com/event-listing/open-exploration-about-resource-efficiency-workshop/
LOCATION:INNOSpace Bern\, Gurtenbrauerei 31\, Köniz\, 3084\, Switzerland
ATTACH;FMTTYPE=image/png:https://swissfoodnutritionvalley.com/wp-content/uploads/2024/01/IB-SFE-Visuels.png
ORGANIZER;CN="Cluster Food &amp%3B Nutrition":MAILTO:info@clusterfoodnutrition.ch
END:VEVENT
BEGIN:VEVENT
DTSTART;TZID=Europe/Zurich:20231122T133000
DTEND;TZID=Europe/Zurich:20231122T190000
DTSTAMP:20260425T033940
CREATED:20230926T043356Z
LAST-MODIFIED:20230926T043356Z
UID:10000080-1700659800-1700679600@swissfoodnutritionvalley.com
SUMMARY:A unifying and friendly event to celebrate the end of 2023
DESCRIPTION:The Cluster Food & Nutrition and SVIAL-ASIAT invite you to an exciting afternoon at Domaine Notre-Dame de la Route! \nTake advantage of this wonderful opportunity to: \n• Meet the new members who have joined the Cluster Food & Nutrition in recent months\, and they will introduce themselves with a 3-minute pitch \n• Discover Domaine Notre-Dame de la Route\, an oasis of tranquility in the heart of the Fribourg area where professional reintegration goes hand in hand with respect for nature \n• Understand how existing science can debunk myths and support companies in developing and highlighting their contributions in the fields of nutrition and sustainability \n• Network with members of the Cluster Food & Nutrition and SVIAL-ASIAT during a friendly aperitif \nRegistration deadline: November 15\, 2023 \nWe look forward to welcoming many of you to this event\, which will bring together a diverse range of stakeholders in the agri-food ecosystem.
URL:https://swissfoodnutritionvalley.com/event-listing/a-unifying-and-friendly-event-to-celebrate-the-end-of-2023/
LOCATION:Domaine Notre-Dame de la Route\, Chemin des Eaux Vives 17\, Villars-sur-Glâne\, Fribourg\, 1752\, Switzerland
CATEGORIES:Co-hosted event
ATTACH;FMTTYPE=image/png:https://swissfoodnutritionvalley.com/wp-content/uploads/2023/09/cluster-magenta-orig.png
ORGANIZER;CN="Cluster Food &amp%3B Nutrition":MAILTO:info@clusterfoodnutrition.ch
END:VEVENT
BEGIN:VEVENT
DTSTART;TZID=Europe/Zurich:20231109T133000
DTEND;TZID=Europe/Zurich:20231109T170000
DTSTAMP:20260425T033940
CREATED:20230919T100841Z
LAST-MODIFIED:20230919T100841Z
UID:10000074-1699536600-1699549200@swissfoodnutritionvalley.com
SUMMARY:JOINT EVENT AT HES-SO VALAIS/WALLIS
DESCRIPTION:On 9 November\, prepare for an exceptional day at the HES-SO Valais/Wallis. This event\, co-organized with our partner Star’Terre\, invites you to explore the horizons of education and innovation. \nThroughout the afternoon\, discover a program packed with knowledge and discoveries. Fascinating presentations of academic programs and current research will take you to the heart of technological and scientific advances. \nA tour of the facilities\, including the Analytical Chemistry Platform\, the Pilot Plant\, and the Sensory and Prototyping Kitchen\, will immerse you in science\, technology\, and creativity. You will discover how these spaces contribute to innovation daily. \nThe event will culminate in company testimonials\, offering a glimpse into the professional world and the real challenges industry players face. The day will close with a convivial aperitif\, a perfect opportunity to discuss\, network\, and extend inspiring conversations. \nJoin us on 9 November for a day of discovery\, learning\, and sharing at the HES-SO Valais/Wallis. It’s a chance to broaden your horizons and connect with minds as curious as your own.
URL:https://swissfoodnutritionvalley.com/event-listing/joint-event-at-hes-so-valais-wallis/
LOCATION:HES-SO Valais/Wallis\, Rue de l'Industrie 19\, Sion\, Valais\, 1950\, Switzerland
CATEGORIES:Co-hosted event
ATTACH;FMTTYPE=image/jpeg:https://swissfoodnutritionvalley.com/wp-content/uploads/2023/09/Evenement-conjoint-a-la-HES-SO-Valais-Wallis-3-1920x1079-1140x641-1.jpg
ORGANIZER;CN="Cluster Food &amp%3B Nutrition":MAILTO:info@clusterfoodnutrition.ch
END:VEVENT
BEGIN:VEVENT
DTSTART;TZID=Europe/Zurich:20230615T103000
DTEND;TZID=Europe/Zurich:20230615T180000
DTSTAMP:20260425T033940
CREATED:20230417T214956Z
LAST-MODIFIED:20230417T214956Z
UID:10000052-1686825000-1686852000@swissfoodnutritionvalley.com
SUMMARY:InnoFood & co
DESCRIPTION:InnoFood & co is back for a 2nd edition on 15 June 2023! Thanks to your loyalty and support\, we are happy to be able to introduce you once again to both local and global initiatives and to seize the opportunities for innovation and collaboration that are available to you. \nThe societal and environmental challenges related to food are numerous and complex. They need to be tackled in a global way and require profound changes from all actors; academic\, economic\, political and society\, hence the notion of “food systems”. \nEverything is connected\, and in order to find a sustainable and beneficial balance for all\, it is necessary to conceive the future of our food all together. The canton of Fribourg is a pioneer in this field with its recent agri-food strategy\, which advocates a systemic\, collaborative and multidisciplinary approach to innovation. \nCONNECT DISCOVER CO-CREATE \nThis 2nd edition is marked by the collaboration with Fribourg Ville du Goût. This is why we welcome you to the BCF Arena to offer you culinary experiences while discovering innovative themes through exciting workshops and presentations. \nThis year\, Bruno Rossignol will do us the honour of being our keynote speaker. Bruno is the Director of Catering and Retail at EPFL and has implemented a revolutionary strategy on campus. He will share with us the behind-the-scenes story of this project during the first part of the event. \nIn the second part\, renowned experts from academia\, startups and industry will share their vision and perspectives on two main topics during parallel sessions: Technology for the entire food value chain and What will tomorrow’s plate look like? There will also be workshops that will appeal to all your senses and creativity! \nAs always\, the emphasis will be on proximity and exchange\, notably through networking opportunities throughout the day. \nNew this year: all lectures will be translated simultaneously into French and German! \nWe look forward to welcoming you to the 2nd edition of InnoFood & co!
URL:https://swissfoodnutritionvalley.com/event-listing/innofood-co/
LOCATION:BCF Arena\, Chem. Saint-Léonard 5\, Fribourg\, 1700\, Switzerland
CATEGORIES:Ecosystem event
ATTACH;FMTTYPE=image/png:https://swissfoodnutritionvalley.com/wp-content/uploads/2023/04/innofoodco_logo-bandes_Blanc.png
ORGANIZER;CN="Cluster Food &amp%3B Nutrition":MAILTO:info@clusterfoodnutrition.ch
END:VEVENT
END:VCALENDAR