BEGIN:VCALENDAR
VERSION:2.0
PRODID:-//Swiss Food &amp; Nutrition Valley - ECPv6.15.20//NONSGML v1.0//EN
CALSCALE:GREGORIAN
METHOD:PUBLISH
X-WR-CALNAME:Swiss Food &amp; Nutrition Valley
X-ORIGINAL-URL:https://swissfoodnutritionvalley.com
X-WR-CALDESC:Events for Swiss Food &amp; Nutrition Valley
REFRESH-INTERVAL;VALUE=DURATION:PT1H
X-Robots-Tag:noindex
X-PUBLISHED-TTL:PT1H
BEGIN:VTIMEZONE
TZID:Europe/Zurich
BEGIN:DAYLIGHT
TZOFFSETFROM:+0100
TZOFFSETTO:+0200
TZNAME:CEST
DTSTART:20240331T010000
END:DAYLIGHT
BEGIN:STANDARD
TZOFFSETFROM:+0200
TZOFFSETTO:+0100
TZNAME:CET
DTSTART:20241027T010000
END:STANDARD
BEGIN:DAYLIGHT
TZOFFSETFROM:+0100
TZOFFSETTO:+0200
TZNAME:CEST
DTSTART:20250330T010000
END:DAYLIGHT
BEGIN:STANDARD
TZOFFSETFROM:+0200
TZOFFSETTO:+0100
TZNAME:CET
DTSTART:20251026T010000
END:STANDARD
BEGIN:DAYLIGHT
TZOFFSETFROM:+0100
TZOFFSETTO:+0200
TZNAME:CEST
DTSTART:20260329T010000
END:DAYLIGHT
BEGIN:STANDARD
TZOFFSETFROM:+0200
TZOFFSETTO:+0100
TZNAME:CET
DTSTART:20261025T010000
END:STANDARD
END:VTIMEZONE
BEGIN:VEVENT
DTSTART;TZID=Europe/Zurich:20251118T160000
DTEND;TZID=Europe/Zurich:20251118T170000
DTSTAMP:20260424T203759
CREATED:20250915T131752Z
LAST-MODIFIED:20250915T204002Z
UID:10000217-1763481600-1763485200@swissfoodnutritionvalley.com
SUMMARY:Igeho Rising Star Awards 2025
DESCRIPTION:Finale: Igeho Rising Star Award 2025\nAt the grand finale of the Igeho Rising Star Award 2025\, the five finalists will showcase their groundbreaking innovations to the audience before facing questions from the expert jury. \nLaunched in 2023\, the Igeho Rising Star Award celebrates and supports founders and start-ups in the hospitality sector. Now in its second edition\, five pioneering start-ups – Catchfree\, Circunis\, Foodflows\, GoNina\, and Yumame Foods — have reached the final round. One of them will be crowned the winner and receive the prestigious award along with prize money. \nThe jury includes industry leaders and experts such as Pascal Bieri (Planted Co-Founder)\, Prof. Dr. Claus-Heinrich Daub (FHNW)\, Marina Helm Romaneschi (Swiss Food Research)\, Christine Schäfer (Gottlieb Duttweiler Institute)\, Rebecca Clopath (Alpine Chef)\, and Christian Gerber (ZFV Group). \nWe look forward to seeing you there! \nMore information can be found on the Igeho website in German and French.
URL:https://swissfoodnutritionvalley.com/event-listing/igeho-rising-star-awards-2025-the-final-pitch/
LOCATION:Messe Basel\, Messeplatz 10\, Basel\, 4058\, Switzerland
CATEGORIES:Co-hosted event
ATTACH;FMTTYPE=image/jpeg:https://swissfoodnutritionvalley.com/wp-content/uploads/2025/09/Valley-After-Hours_Eventbrite-size3.jpg
END:VEVENT
END:VCALENDAR