BEGIN:VCALENDAR
VERSION:2.0
PRODID:-//Swiss Food &amp; Nutrition Valley - ECPv6.15.20//NONSGML v1.0//EN
CALSCALE:GREGORIAN
METHOD:PUBLISH
X-WR-CALNAME:Swiss Food &amp; Nutrition Valley
X-ORIGINAL-URL:https://swissfoodnutritionvalley.com
X-WR-CALDESC:Events for Swiss Food &amp; Nutrition Valley
REFRESH-INTERVAL;VALUE=DURATION:PT1H
X-Robots-Tag:noindex
X-PUBLISHED-TTL:PT1H
BEGIN:VTIMEZONE
TZID:Europe/Zurich
BEGIN:DAYLIGHT
TZOFFSETFROM:+0100
TZOFFSETTO:+0200
TZNAME:CEST
DTSTART:20230326T010000
END:DAYLIGHT
BEGIN:STANDARD
TZOFFSETFROM:+0200
TZOFFSETTO:+0100
TZNAME:CET
DTSTART:20231029T010000
END:STANDARD
BEGIN:DAYLIGHT
TZOFFSETFROM:+0100
TZOFFSETTO:+0200
TZNAME:CEST
DTSTART:20240331T010000
END:DAYLIGHT
BEGIN:STANDARD
TZOFFSETFROM:+0200
TZOFFSETTO:+0100
TZNAME:CET
DTSTART:20241027T010000
END:STANDARD
BEGIN:DAYLIGHT
TZOFFSETFROM:+0100
TZOFFSETTO:+0200
TZNAME:CEST
DTSTART:20250330T010000
END:DAYLIGHT
BEGIN:STANDARD
TZOFFSETFROM:+0200
TZOFFSETTO:+0100
TZNAME:CET
DTSTART:20251026T010000
END:STANDARD
END:VTIMEZONE
BEGIN:VEVENT
DTSTART;TZID=Europe/Zurich:20241008T100000
DTEND;TZID=Europe/Zurich:20241008T163000
DTSTAMP:20260422T162534
CREATED:20240808T084048Z
LAST-MODIFIED:20240808T084048Z
UID:10000153-1728381600-1728405000@swissfoodnutritionvalley.com
SUMMARY:Open Exploration Workshop in Bavois
DESCRIPTION:The Innovation Booster Future Food Farming\, powered by Innosuisse\, invites you to network and co-create transformative solutions. Together\, we will identify barriers to a deeper connection with the soil regarding farming\, growing and consuming products\, especially concerning soil health and fertility. We will get to the root of the problems and work together to find new solutions for a sustainable agricultural and food system. \nWe will:\n\nRecognise obstacles and problems that stand in the way of transformation today.\nBetter understand the complexity of the Swiss agro-food system.\nRecognise challenges and their actors.\nCreate opportunity statements that pave the way for new impulses and value-based solutions.\nNetwork and match-make among all participants.\n\nWhy join us?\n\nJoin a vibrant\, multidisciplinary community that is passionate about reshaping our food landscape.\nGain deep insights and understanding of relevant hurdles and their profound impact.\nFind the right partners for an innovation project and gain eligibility for funding up to 39’000 CHF!\n\nThis event is organised in collaboration with La Ferme de Lilan. \nThe event will be held in French.
URL:https://swissfoodnutritionvalley.com/event-listing/open-exploration-workshop-in-bavois/
LOCATION:La Ferme de Lilan\, L’Islan 1\, Bavois\, 1372\, Switzerland
CATEGORIES:Ecosystem event
ATTACH;FMTTYPE=image/png:https://swissfoodnutritionvalley.com/wp-content/uploads/2024/08/event-3.png
ORGANIZER;CN="Innovation Booster Future Food Farming":MAILTO:innovation@futurefoodfarming.org
END:VEVENT
END:VCALENDAR