BEGIN:VCALENDAR
VERSION:2.0
PRODID:-//Swiss Food &amp; Nutrition Valley - ECPv6.15.20//NONSGML v1.0//EN
CALSCALE:GREGORIAN
METHOD:PUBLISH
X-ORIGINAL-URL:https://swissfoodnutritionvalley.com
X-WR-CALDESC:Events for Swiss Food &amp; Nutrition Valley
REFRESH-INTERVAL;VALUE=DURATION:PT1H
X-Robots-Tag:noindex
X-PUBLISHED-TTL:PT1H
BEGIN:VTIMEZONE
TZID:Europe/Zurich
BEGIN:DAYLIGHT
TZOFFSETFROM:+0100
TZOFFSETTO:+0200
TZNAME:CEST
DTSTART:20220327T010000
END:DAYLIGHT
BEGIN:STANDARD
TZOFFSETFROM:+0200
TZOFFSETTO:+0100
TZNAME:CET
DTSTART:20221030T010000
END:STANDARD
BEGIN:DAYLIGHT
TZOFFSETFROM:+0100
TZOFFSETTO:+0200
TZNAME:CEST
DTSTART:20230326T010000
END:DAYLIGHT
BEGIN:STANDARD
TZOFFSETFROM:+0200
TZOFFSETTO:+0100
TZNAME:CET
DTSTART:20231029T010000
END:STANDARD
BEGIN:DAYLIGHT
TZOFFSETFROM:+0100
TZOFFSETTO:+0200
TZNAME:CEST
DTSTART:20240331T010000
END:DAYLIGHT
BEGIN:STANDARD
TZOFFSETFROM:+0200
TZOFFSETTO:+0100
TZNAME:CET
DTSTART:20241027T010000
END:STANDARD
END:VTIMEZONE
BEGIN:VEVENT
DTSTART;VALUE=DATE:20230914
DTEND;VALUE=DATE:20230917
DTSTAMP:20260425T045436
CREATED:20230824T095424Z
LAST-MODIFIED:20230824T095424Z
UID:10000071-1694649600-1694908799@swissfoodnutritionvalley.com
SUMMARY:Soil to Soul Symposium 2023
DESCRIPTION:From September 14th to 16th\, the Soil to Soul Symposium will take place at the Kulturareal Mühle Tiefenbrunnen. Exciting keynotes\, masterclasses\, culinary events\, a Soil Food & Fermentista Market\, and much more await you\, all revolving around the cycle from soil to gut. The focus of these days will be on our soil and its interconnected impacts on the environment and our health. A significant role is played by sustainable\, responsible\, and enjoyable nutrition. By consciously choosing our diet\, we contribute to the preservation of our soils. In doing so\, we restore the significance of soil for climate and the health of humans and animals.
URL:https://swissfoodnutritionvalley.com/event-listing/soil-to-soul-symposium-2023/
CATEGORIES:Valley partners only
ATTACH;FMTTYPE=image/jpeg:https://swissfoodnutritionvalley.com/wp-content/uploads/2023/08/symposium_allg_EN-scaled.jpg
ORGANIZER;CN="Soil to Soul":MAILTO:sarah.wickli@sotoso.com
END:VEVENT
END:VCALENDAR