BEGIN:VCALENDAR
VERSION:2.0
PRODID:-//Swiss Food &amp; Nutrition Valley - ECPv6.15.20//NONSGML v1.0//EN
CALSCALE:GREGORIAN
METHOD:PUBLISH
X-WR-CALNAME:Swiss Food &amp; Nutrition Valley
X-ORIGINAL-URL:https://swissfoodnutritionvalley.com
X-WR-CALDESC:Events for Swiss Food &amp; Nutrition Valley
REFRESH-INTERVAL;VALUE=DURATION:PT1H
X-Robots-Tag:noindex
X-PUBLISHED-TTL:PT1H
BEGIN:VTIMEZONE
TZID:Europe/Zurich
BEGIN:DAYLIGHT
TZOFFSETFROM:+0100
TZOFFSETTO:+0200
TZNAME:CEST
DTSTART:20230326T010000
END:DAYLIGHT
BEGIN:STANDARD
TZOFFSETFROM:+0200
TZOFFSETTO:+0100
TZNAME:CET
DTSTART:20231029T010000
END:STANDARD
BEGIN:DAYLIGHT
TZOFFSETFROM:+0100
TZOFFSETTO:+0200
TZNAME:CEST
DTSTART:20240331T010000
END:DAYLIGHT
BEGIN:STANDARD
TZOFFSETFROM:+0200
TZOFFSETTO:+0100
TZNAME:CET
DTSTART:20241027T010000
END:STANDARD
BEGIN:DAYLIGHT
TZOFFSETFROM:+0100
TZOFFSETTO:+0200
TZNAME:CEST
DTSTART:20250330T010000
END:DAYLIGHT
BEGIN:STANDARD
TZOFFSETFROM:+0200
TZOFFSETTO:+0100
TZNAME:CET
DTSTART:20251026T010000
END:STANDARD
END:VTIMEZONE
BEGIN:VEVENT
DTSTART;TZID=Europe/Zurich:20241016T160000
DTEND;TZID=Europe/Zurich:20241016T200000
DTSTAMP:20260422T211809
CREATED:20240930T154955Z
LAST-MODIFIED:20240930T155806Z
UID:10000175-1729094400-1729108800@swissfoodnutritionvalley.com
SUMMARY:FoodTech 2024 : Innovation meets Food
DESCRIPTION:On October 16th\, from 4 PM to 8 PM\, START Global will host a FoodTech event at the START Campus (Unterstrasse 6\, 9000 St. Gallen). \nJoin us for an inspiring evening where industry leaders gather to explore and innovate within the food-tech sector. \n What’s waiting for you:  \n\nExplore the food-tech ecosystem: Engage with founders\, innovators\, and key players in the industry\nInteractive fair-like atmosphere: Founders will showcase their products to small groups and answer questions\nExpert sessions: Learn from industry experts during insightful talks on innovation and trends in the food-tech sector\nNetworking with drinks: End the evening with casual networking over beer and drinks\, perfect for catching up and forming new connections\n\n			\n			\n				\n				\n				\n				\n			\n				\n				\n				\n				\n				\n				\n				\n				\n				\n				\n				Everyone:  \n\nGet to know selected startups\nLearn about the latest products\nMeet experts in the industry\nInspire students for food-tech & entrepreneurship\nBenefit of a small and focused gathering\nNetwork in a relaxed atmosphere\n\nPlease register now if you want to attend the event. \n			\n			\n				\n				\n				\n				\n				\n				\n				\n				\n				\n				Start-ups: \n\nFree exhibition of your products\nConnect to investors & industry players\nLearn from experts\nInspire students for food- tech & entrepreneurship\nGain real-time feedback\nGet to know other founders\n\nPlease apply now to get involved in the event! \nIf you can’t attend\, gain visibility by placing your product in our goodie bag!
URL:https://swissfoodnutritionvalley.com/event-listing/foodtech-2024-innovation-meets-food/
LOCATION:START Campus\, Unterstrasse 6\, St. Gallen\, 9000\, Switzerland
ATTACH;FMTTYPE=image/jpeg:https://swissfoodnutritionvalley.com/wp-content/uploads/2024/09/IFs-Event-calendar-header-Presentation-1.jpg
END:VEVENT
END:VCALENDAR