BEGIN:VCALENDAR
VERSION:2.0
PRODID:-//Swiss Food &amp; Nutrition Valley - ECPv6.15.20//NONSGML v1.0//EN
CALSCALE:GREGORIAN
METHOD:PUBLISH
X-WR-CALNAME:Swiss Food &amp; Nutrition Valley
X-ORIGINAL-URL:https://swissfoodnutritionvalley.com
X-WR-CALDESC:Events for Swiss Food &amp; Nutrition Valley
REFRESH-INTERVAL;VALUE=DURATION:PT1H
X-Robots-Tag:noindex
X-PUBLISHED-TTL:PT1H
BEGIN:VTIMEZONE
TZID:Europe/Zurich
BEGIN:DAYLIGHT
TZOFFSETFROM:+0100
TZOFFSETTO:+0200
TZNAME:CEST
DTSTART:20240331T010000
END:DAYLIGHT
BEGIN:STANDARD
TZOFFSETFROM:+0200
TZOFFSETTO:+0100
TZNAME:CET
DTSTART:20241027T010000
END:STANDARD
BEGIN:DAYLIGHT
TZOFFSETFROM:+0100
TZOFFSETTO:+0200
TZNAME:CEST
DTSTART:20250330T010000
END:DAYLIGHT
BEGIN:STANDARD
TZOFFSETFROM:+0200
TZOFFSETTO:+0100
TZNAME:CET
DTSTART:20251026T010000
END:STANDARD
BEGIN:DAYLIGHT
TZOFFSETFROM:+0100
TZOFFSETTO:+0200
TZNAME:CEST
DTSTART:20260329T010000
END:DAYLIGHT
BEGIN:STANDARD
TZOFFSETFROM:+0200
TZOFFSETTO:+0100
TZNAME:CET
DTSTART:20261025T010000
END:STANDARD
END:VTIMEZONE
BEGIN:VEVENT
DTSTART;TZID=Europe/Zurich:20251003T083000
DTEND;TZID=Europe/Zurich:20251003T203000
DTSTAMP:20260422T155428
CREATED:20250826T202913Z
LAST-MODIFIED:20250826T202913Z
UID:10000214-1759480200-1759523400@swissfoodnutritionvalley.com
SUMMARY:SIIA Summit 2025: Finance & Technology for a Sustainable Future
DESCRIPTION:Join leaders\, innovators\, and investors at the SIIA Impact Summit to explore this year’s theme: “Technology & Finance for a Sustainable Future.” The summit is a platform for partnerships\, deal-making\, and concrete solutions in the impact space. Expect inspiring keynotes\, interactive sessions\, and valuable networking with experts from finance\, technology\, and sustainability. \nGet your tickets now for CHF 200\nSpecial discount for the first few registrations\nBooths & Sponsorships Available \n👉 Register here: https://eventfrog.ch/en/p/miscellaneous/siia-summit-2025-7335628365179651898.html
URL:https://swissfoodnutritionvalley.com/event-listing/siia-summit-2025-finance-technology-for-a-sustainable-future/
LOCATION:EHL Hospitality Business School\, Rte de Berne 301\, Lausanne\, Vaud\, 1000\, Switzerland
ATTACH;FMTTYPE=image/png:https://swissfoodnutritionvalley.com/wp-content/uploads/2025/08/posters-2-UWVJQK0R.png
ORGANIZER;CN="Swiss Impact Investment Association":MAILTO:summit@siia.ch
END:VEVENT
END:VCALENDAR