BEGIN:VCALENDAR
VERSION:2.0
PRODID:-//Swiss Food &amp; Nutrition Valley - ECPv6.15.20//NONSGML v1.0//EN
CALSCALE:GREGORIAN
METHOD:PUBLISH
X-ORIGINAL-URL:https://swissfoodnutritionvalley.com
X-WR-CALDESC:Events for Swiss Food &amp; Nutrition Valley
REFRESH-INTERVAL;VALUE=DURATION:PT1H
X-Robots-Tag:noindex
X-PUBLISHED-TTL:PT1H
BEGIN:VTIMEZONE
TZID:Europe/Zurich
BEGIN:DAYLIGHT
TZOFFSETFROM:+0100
TZOFFSETTO:+0200
TZNAME:CEST
DTSTART:20250330T010000
END:DAYLIGHT
BEGIN:STANDARD
TZOFFSETFROM:+0200
TZOFFSETTO:+0100
TZNAME:CET
DTSTART:20251026T010000
END:STANDARD
BEGIN:DAYLIGHT
TZOFFSETFROM:+0100
TZOFFSETTO:+0200
TZNAME:CEST
DTSTART:20260329T010000
END:DAYLIGHT
BEGIN:STANDARD
TZOFFSETFROM:+0200
TZOFFSETTO:+0100
TZNAME:CET
DTSTART:20261025T010000
END:STANDARD
BEGIN:DAYLIGHT
TZOFFSETFROM:+0100
TZOFFSETTO:+0200
TZNAME:CEST
DTSTART:20270328T010000
END:DAYLIGHT
BEGIN:STANDARD
TZOFFSETFROM:+0200
TZOFFSETTO:+0100
TZNAME:CET
DTSTART:20271031T010000
END:STANDARD
END:VTIMEZONE
BEGIN:VEVENT
DTSTART;TZID=Europe/Zurich:20260519T080000
DTEND;TZID=Europe/Zurich:20260520T170000
DTSTAMP:20260422T143152
CREATED:20251122T150608Z
LAST-MODIFIED:20260112T134816Z
UID:10000222-1779177600-1779296400@swissfoodnutritionvalley.com
SUMMARY:EHL HumanX Summit 2026
DESCRIPTION:At its core\, HumanX stands for Human Experience\, Human-centric Excellence and Experimentation. It’s a space to explore how empathy\, creativity\, and human-centric thinking can shape the way we lead\, work\, and live. HumanX embodies the evolving story of what it means to be human in a rapidly transforming world. The “X” represents the intersections where humanity meets change and technology\, where innovation meets emotion\, and where new forms of connection – both digital and human – are continuously redefined. It also represents the experience itself: how we feel\, grow and relate in an increasingly complex environment. Powered by the EHL Innovation Hub\, the Summit invites us to expand the boundaries of human potential and to reimagine a shared future\, one where humanity remains at the center of progress. \nFind out more about the event here: https://innovationhub.ehl.edu/ehl-humanx-summit-2026 \nMultiple ways for Valley Members to engage: \n\nApply for the flagship “Food Innovation Lunch”. Are you a startup that would like to feature your innovative food product and can provide tasting samples? Deadline to apply is Friday\, 17th February HERE. Valley members receive a 30% discount on the booth price.\nHost a tradeshow booth: Book Your Booth Here. Valley partners receive a 30% discount on the booth price.\nPurchase a ticket: Valley members receive a 30% discount on the ticket prices.\n\nPlease contact lucine.flett@ehl.ch to receive your discount code or check SFNV Whatsapp group.
URL:https://swissfoodnutritionvalley.com/event-listing/ehl-humanx-summit/
LOCATION:EHL Hospitality Business School\, Rte de Berne 301\, Lausanne\, Vaud\, 1000\, Switzerland
CATEGORIES:Ecosystem event
ATTACH;FMTTYPE=application/pdf:https://swissfoodnutritionvalley.com/wp-content/uploads/2025/11/EHL_Human_X_Summit_2026.pdf
ORGANIZER;CN="EHL Hospitality Business School":MAILTO:lucine.flett@ehl.ch
END:VEVENT
END:VCALENDAR